BEGIN:VCALENDAR
VERSION:2.0
PRODID:-//eventon.com NONSGML v1.0//EN
CALSCALE:GREGORIAN
METHOD:PUBLISH
BEGIN:VEVENT
UID:69e88f52727d7
DTSTAMP:20260422T090522Z
DTSTART:20250516T183000Z
DTEND:20250518T150000Z
LOCATION:Abbaye Bénédictine de Sainte Lioba
SUMMARY:Week-end "Est ce bien lui\,  est ce bien elle ?"
DESCRIPTION:« Nous sommes en couple\,  que choisissons-nous de construire 
 » Enseignements\,  temps personnels\,  échanges en couple pour envisager 
 l’avenir Nous sommes ensemble\,  mais nous ne sommes pas mariés. Nous «
  sommes en couple »\,  mais que choisissons-nous de construire ? Sommes-no
 us prêts à durer et à nous engager dans l’Alliance[..]\nhttps://dioces
 e-marseille.fr/evenement/week-end-est-ce-bien-lui-est-ce-bien-elle/
URL:https://diocese-marseille.fr/evenement/week-end-est-ce-bien-lui-est-ce-bien-elle/
END:VEVENT
END:VCALENDAR