BEGIN:VCALENDAR
VERSION:2.0
PRODID:-//eventon.com NONSGML v1.0//EN
CALSCALE:GREGORIAN
METHOD:PUBLISH
BEGIN:VEVENT
UID:69eb37fa26694
DTSTAMP:20260424T092930Z
DTSTART:20250425T183000Z
DTEND:20250425T150000Z
LOCATION:Abbaye BÃ©nÃ©dictine de Sainte Lioba
SUMMARY:Week-end "Avant notre mariage\,  une pause"
DESCRIPTION:Fonder son mariage sur Â« La Joie de lâ€™amour Â» du pape FranÃ
 §ois. Ce temps vient en complÃ©ment de la prÃ©paration qui se fait sous la 
 responsabilitÃ© des paroisses. Sâ€™engager dans lâ€™amour avec un cÅ“ur lar
 ge et gÃ©nÃ©reux Votre mariage Ã  lâ€™Eglise est dÃ©cidÃ© et vous suivez un
 e prÃ©paration dans[..]\nhttps://diocese-marseille.fr/evenement/week-end-av
 ant-notre-mariage-une-pause/
URL:https://diocese-marseille.fr/evenement/week-end-avant-notre-mariage-une-pause/
END:VEVENT
END:VCALENDAR