BEGIN:VCALENDAR
VERSION:2.0
PRODID:-//eventon.com NONSGML v1.0//EN
CALSCALE:GREGORIAN
METHOD:PUBLISH
BEGIN:VEVENT
UID:69e88ffe671c7
DTSTAMP:20260422T090814Z
DTSTART:20250307T193000Z
DTEND:20250309T160000Z
LOCATION:MonastÃ¨re des Dominicaines
SUMMARY:Week-end "Plus de 5 ans de mariage"
DESCRIPTION:Nous nous marions\,  et aprÃ¨s ? Se poser et renforcer son alli
 ance Le mariage se prÃ©pareâ€¦ La vie dans le mariage sâ€™entretientâ€¦ dâ€
 ™oÃ¹ lâ€˜importance de faire une pause\,  aprÃ¨s quelques annÃ©es\,  pour r
 epÃ©rer les transformations qui ont affectÃ© le couple\,  les difficultÃ©s 
 [surmontÃ©es ou non] qui ont pu voir le[..]\nhttps://diocese-marseille.fr/e
 venement/week-end-plus-de-5-ans-de-mariage/
URL:https://diocese-marseille.fr/evenement/week-end-plus-de-5-ans-de-mariage/
END:VEVENT
END:VCALENDAR