BEGIN:VCALENDAR
VERSION:2.0
PRODID:-//eventon.com NONSGML v1.0//EN
CALSCALE:GREGORIAN
METHOD:PUBLISH
BEGIN:VEVENT
UID:69e88e198acec
DTSTAMP:20260422T090009Z
DTSTART:20250509T160000Z
DTEND:20250511T150000Z
LOCATION:Domaine de Roc-Estello
SUMMARY:Week-end Cénacle de Roc Estello au Plan d’Aups du 9 au 11 mai 2025
DESCRIPTION:Week-end Cénacle de Roc Estello au Plan d’Aups du 9 au 11 ma
 i 2025\,  un cadeau pour votre couple à deux pas de Marseille Les week-end
 s « Cénacle » sont destinés aux couples unis par le sacrement du mariag
 e (ou s’y préparant)\,  aux couples qui désirent renouveler leur vie\, 
  leur[..]\nhttps://diocese-marseille.fr/evenement/week-end-cenacle-de-roc-e
 stello-au-plan-daups-du-9-au-11-mai-2025/
URL:https://diocese-marseille.fr/evenement/week-end-cenacle-de-roc-estello-au-plan-daups-du-9-au-11-mai-2025/
END:VEVENT
END:VCALENDAR