BEGIN:VCALENDAR
VERSION:2.0
PRODID:-//eventon.com NONSGML v1.0//EN
CALSCALE:GREGORIAN
METHOD:PUBLISH
BEGIN:VEVENT
UID:69eb56a3425f5
DTSTAMP:20260424T114019Z
DTSTART:20260529T183000Z
DTEND:20260531T150000Z
LOCATION:Monastère des Dominicaines
SUMMARY:Week-end "Est-ce bien lui\,  est-ce bien elle ?"
DESCRIPTION:« Nous sommes en couple\,  que choisissons-nous de construire 
 » Enseignements\,  temps personnels\,  échanges en couple pour envisager 
 l’avenir (max. 6 couples) Pour regarder posément l’avenir à deux Nous
  sommes ensemble\,  mais nous ne sommes pas mariés. Nous « sommes en coup
 le »\,  mais que choisissons-nous de construire ? Sommes-nous[..]\nhttps:/
 /diocese-marseille.fr/evenement/week-end-est-ce-bien-lui-est-ce-bien-elle-4
 /
URL:https://diocese-marseille.fr/evenement/week-end-est-ce-bien-lui-est-ce-bien-elle-4/
END:VEVENT
END:VCALENDAR