BEGIN:VCALENDAR
VERSION:2.0
PRODID:-//eventon.com NONSGML v1.0//EN
CALSCALE:GREGORIAN
METHOD:PUBLISH
BEGIN:VEVENT
UID:69e88ddea9722
DTSTAMP:20260422T085910Z
DTSTART:20251204T082400Z
DTEND:20251204T082400Z
LOCATION:
SUMMARY:2ème étape de baptême pour les collégiens
DESCRIPTION:Rencontre en diocèse le dimanche 11 janvier 2026 de 14h à 17h
  à l&rsquo;église des Chartreux (Rue Pierre Roche &#8211; Marseille 4e) I
 nscription obligatoire : https://forms.office.com/pages/responsepage.aspx?i
 d=O45RmYRG2kyKhbZhYxoE3cac-ijBWFZMnPR7mVxjZW9UMFQxWTZBTFFXNzdUTzQxVjlTQVVCM
 zhMUS4u&amp;origin=QRCode&amp;route=shorturl &nbsp;\nhttps://diocese-marsei
 lle.fr/evenement/2eme-etape-de-bapteme-pour-les-collegiens/
URL:https://diocese-marseille.fr/evenement/2eme-etape-de-bapteme-pour-les-collegiens/
END:VEVENT
END:VCALENDAR