BEGIN:VCALENDAR
VERSION:2.0
PRODID:-//eventon.com NONSGML v1.0//EN
CALSCALE:GREGORIAN
METHOD:PUBLISH
BEGIN:VEVENT
UID:69eb79de78610
DTSTAMP:20260424T141038Z
DTSTART:20260303T180000Z
DTEND:20260303T193000Z
LOCATION:Centre Le Mistral 11 impasse Flammarion 13001 Marseille
SUMMARY:Soirée agir contre les abus
DESCRIPTION:&nbsp;\nhttps://diocese-marseille.fr/evenement/soiree-agir-cont
 re-les-abus-2/
URL:https://diocese-marseille.fr/evenement/soiree-agir-contre-les-abus-2/
END:VEVENT
END:VCALENDAR